BEGIN:VCALENDAR
VERSION:2.0
PRODID:-//Heinrich-Vetter-Stiftung - ECPv6.15.12.2//NONSGML v1.0//EN
CALSCALE:GREGORIAN
METHOD:PUBLISH
X-WR-CALNAME:Heinrich-Vetter-Stiftung
X-ORIGINAL-URL:https://www.heinrich-vetter-stiftung.de
X-WR-CALDESC:Veranstaltungen für Heinrich-Vetter-Stiftung
REFRESH-INTERVAL;VALUE=DURATION:PT1H
X-Robots-Tag:noindex
X-PUBLISHED-TTL:PT1H
BEGIN:VTIMEZONE
TZID:Europe/Berlin
BEGIN:DAYLIGHT
TZOFFSETFROM:+0100
TZOFFSETTO:+0200
TZNAME:CEST
DTSTART:20250330T010000
END:DAYLIGHT
BEGIN:STANDARD
TZOFFSETFROM:+0200
TZOFFSETTO:+0100
TZNAME:CET
DTSTART:20251026T010000
END:STANDARD
BEGIN:DAYLIGHT
TZOFFSETFROM:+0100
TZOFFSETTO:+0200
TZNAME:CEST
DTSTART:20260329T010000
END:DAYLIGHT
BEGIN:STANDARD
TZOFFSETFROM:+0200
TZOFFSETTO:+0100
TZNAME:CET
DTSTART:20261025T010000
END:STANDARD
BEGIN:DAYLIGHT
TZOFFSETFROM:+0100
TZOFFSETTO:+0200
TZNAME:CEST
DTSTART:20270328T010000
END:DAYLIGHT
BEGIN:STANDARD
TZOFFSETFROM:+0200
TZOFFSETTO:+0100
TZNAME:CET
DTSTART:20271031T010000
END:STANDARD
END:VTIMEZONE
BEGIN:VEVENT
DTSTART;TZID=Europe/Berlin:20260510T110000
DTEND;TZID=Europe/Berlin:20260510T130000
DTSTAMP:20260422T135509
CREATED:20251212T070452Z
LAST-MODIFIED:20251212T070452Z
UID:13684-1778410800-1778418000@www.heinrich-vetter-stiftung.de
SUMMARY:Muttertag im Park
DESCRIPTION:Zum Muttertag erwartet Sie in diesem Jahr ein besonderes Highlight im Park der Heinrich-Vetter-Stiftung: Der Carneval Club Waldhof (CCW) präsentiert ein unterhaltsames Programm. \nDie Tontauben werden Schlager präsentieren\, die Cheerleader und Garden werden ihre Tänze zeigen. Ein buntes Programm aus Gesang und Tanz verspricht beste Unterhaltung für die ganze Familie und ist die perfekte Gelegenheit\, den Muttertag in fröhlicher Atmosphäre zu feiern. Zum Abschluss gibt es die an Muttertag schon traditionelle Kartoffelsuppe. \nDer Eintritt ist frei\, um Spenden für den CCW wird gebeten. \nEinlaß ab 10:30 Uhr Beginn 11 Uhr
URL:https://www.heinrich-vetter-stiftung.de/event/muttertag-im-park/
LOCATION:Park der Heinrich-Vetter-Stiftung\, Goethestraße 11\, Ilvesheim\, 68549\, Deutschland
CATEGORIES:RSVP
ATTACH;FMTTYPE=image/jpeg:https://www.heinrich-vetter-stiftung.de/wp-content/uploads/2025/12/Vorschau-CCW-Muttertag-scaled.jpg
END:VEVENT
BEGIN:VEVENT
DTSTART;TZID=Europe/Berlin:20260617T110000
DTEND;TZID=Europe/Berlin:20260617T130000
DTSTAMP:20260422T135509
CREATED:20260316T103301Z
LAST-MODIFIED:20260320T122921Z
UID:14235-1781694000-1781701200@www.heinrich-vetter-stiftung.de
SUMMARY:Klassik Frühstück mit dem Kurpfälzischen Kammerorchester
DESCRIPTION:Genießen Sie bei einer Tasse Kaffee im Stiftungspark die Klänge des Kurpfälzischen Kammerorchesters! \nWir laden Sie herzlich zu einem Generationenübergreifenden Klassik-Frühstück  am Mittwoch\, 17. Juni 2026\, in Kooperation mit dem Förderverein Hospiz St. Vincent und dem Kinderhaus Zauberlehrling\, ein. \n\n\nEintritt kostenfrei (Spenden für das Orchester willkommen \n\n\nEinlass ab 10:30 Uhr\, Konzertbeginn 11:00 Uhr
URL:https://www.heinrich-vetter-stiftung.de/event/klassik-fruehstueck-mit-dem-kurpfaelzischen-kammerorchester-2/
LOCATION:Park der Heinrich-Vetter-Stiftung\, Goethestraße 11\, 68549 Ilvesheim
CATEGORIES:RSVP
ATTACH;FMTTYPE=image/jpeg:https://www.heinrich-vetter-stiftung.de/wp-content/uploads/2026/03/Vorschu-Konzert-mit-KKO-2-scaled.jpg
END:VEVENT
BEGIN:VEVENT
DTSTART;TZID=Europe/Berlin:20260704T150000
DTEND;TZID=Europe/Berlin:20260704T170000
DTSTAMP:20260422T135509
CREATED:20260326T094046Z
LAST-MODIFIED:20260326T094414Z
UID:14300-1783177200-1783184400@www.heinrich-vetter-stiftung.de
SUMMARY:Familienlesung mit Anna Maria Praßler und Sukini „Keine Party ist auch keine Lösung“
DESCRIPTION:Die Kinderbuchautorin Anna Maria Praßler liest aus ihrem Buch „Keine Party ist auch keine Lösung“ vom Klett Kinderbuch Verlag. \nDie Geschichte ist lebendig\, humorvoll und einfühlsam zugleich. Sie richtet sich an Kinder ab 9 Jahren und erzählt von Freundschaft\, Zusammenhalt und dem Mut\, für andere da zu sein. \nNach der gemeinsamen Lesung dürfen sich Kinder und Erwachsene auf ein spannendes Programm freuen. Musikerin Sukini gestaltet mit den Kindern eine fröhliche Musikparty\, bei der gesungen\, getanzt und gelacht wird. Gleichzeitig sind die Eltern eingeladen\, gemeinsam mit Anna Maria Praßler\, Vertreterinnen von Frauen helfen Frauen e.V. Heidelberg und weiteren Gästen über die Arbeit im Frauenhaus und Wege zu mehr Solidarität im Alltag zu sprechen. Die Gesprächsrunde wird von Janine Tornow-Gaisbauer von Vielerorts e.V. moderiert. \nDie Veranstaltung findet bei gutem Wetter im Park der Stiftung statt. Sollte es regnen\, weichen wir in die Stiftungsvilla aus. Für Kinderprogramm und Gesprächsrunde stehen getrennte Räume zur Verfügung\, damit Musik und Gespräche sich nicht gegenseitig stören. \nDiese besondere Veranstaltung findet im Rahmen der Ladeburger Literaturtage von Vielerorts e.V. und in Kooperation mit der Gemeindebibliothek Ilvesheim und der Heinrich-Vetter-Stiftung statt. \nFamilienlesung mit Anna Maria Praßler und Sukini\n„Keine Party ist auch keine Lösung“\nTermin: Samstag\, 4. Juli 2026\, 15 Uhr\, Einlaß ab 14:30 Uhr\nOrt: Park der Heinrich-Vetter-Stiftung\, bei schlechtem Wetter in der Stiftungsvilla \nAnmeldung:\nDie Teilnahme ist kostenfrei\, eine Anmeldung ist jedoch erforderlich.\nGemeinsam lesen\, feiern und ins Gespräch kommen\, wir freuen uns auf Sie!
URL:https://www.heinrich-vetter-stiftung.de/event/familienlesung-mit-anna-maria-prassler-und-sukini-keine-party-ist-auch-keine-loesung/
LOCATION:Park der Heinrich-Vetter-Stiftung\, Goethestraße 11\, 68549 Ilvesheim
CATEGORIES:RSVP
ATTACH;FMTTYPE=image/jpeg:https://www.heinrich-vetter-stiftung.de/wp-content/uploads/2026/03/Vorschaubild-Keine-Party-ist-auch-keine-Loesung_.jpg
END:VEVENT
BEGIN:VEVENT
DTSTART;TZID=Europe/Berlin:20260718T110000
DTEND;TZID=Europe/Berlin:20260718T130000
DTSTAMP:20260422T135509
CREATED:20251210T092724Z
LAST-MODIFIED:20260227T193332Z
UID:13675-1784372400-1784379600@www.heinrich-vetter-stiftung.de
SUMMARY:Konzert: Erinnerung an Peter Alexander
DESCRIPTION:In diesem Jahr wäre Peter Alexander\, der unvergessene Entertainer\, Sänger und Schauspieler\, 100 Jahre alt geworden. Aus diesem Anlass lädt die Heinrich-Vetter-Stiftung in enger Kooperation mit dem KulturNetz Mannheim  zu einem besonderen Vormittag im Stiftungspark ein. Diese Zusammenarbeit die kulturelle Vielfalt des Schatzkisten mit dem besonderen Ambiente der Stiftung – eine Verbindung\, die Musik\, Begegnung und Gemeinschaft lebendig werden lässt. \nDer Sänger Bernd Nauwartat widmete sich gemeinsam mit Dieter Scheithe am Piano und Gerd Nemet einem Percussion dem musikalischen Lebenswerk des großen österreichischen Künstlers. Mit Charme und Gefühl präsentiert das Trio eine Hommage an Peter Alexander – mal beschwingt\, mal nachdenklich\, aber immer mit Herz. Auf dem Programm stehen unvergessene Lieder die Generationen begeistert haben und bis heute ihren Zauber behalten. \nPeter Alexander war weit mehr als nur ein Sänger: Er verkörperte das Showtalent seiner Zeit – beliebt in Film\, Fernsehen und auf der Bühne. Mit seiner unverwechselbaren Stimme und seinem feinen Humor schuf er ein musikalisches Lebensgefühl\, das Leichtigkeit und Lebensfreude ausstrahlte. \nDie Kooperation von Stiftung und KulurNetzschafft einen Rahmen\, in dem die Kultur gemeinsam gestaltet und erlebt wird: Im stimmungsvollen Park werden schwingvolle Melodien ebenso Platz finden wie leise\, besinnliche Töne. So entsteht ein Abend\, der nicht nur an einen großen Entertainer erinnert\, sondern auch die Freude an gemeinsamer Kulturarbeit sichtbar macht. \nDer Eintritt ist frei\, um Spenden wird gebeten. \nEinlass 10:30 Uhr\, Beginn 11 Uhr
URL:https://www.heinrich-vetter-stiftung.de/event/konzert-erinnerung-an-peter-alexander/
LOCATION:Park der Heinrich-Vetter-Stiftung\, Goethestraße 11\, Ilvesheim\, 68549\, Deutschland
CATEGORIES:RSVP
ATTACH;FMTTYPE=image/jpeg:https://www.heinrich-vetter-stiftung.de/wp-content/uploads/2025/12/Vorschau-100-Jahre-Peter-Alexander-Bernd-und-Dieter-scaled.jpg
END:VEVENT
BEGIN:VEVENT
DTSTART;TZID=Europe/Berlin:20260724T160000
DTEND;TZID=Europe/Berlin:20260724T170000
DTSTAMP:20260422T135509
CREATED:20251216T103632Z
LAST-MODIFIED:20251216T103632Z
UID:13688-1784908800-1784912400@www.heinrich-vetter-stiftung.de
SUMMARY:Die Geschichtenerfinder Impro-Theater  für Kinder
DESCRIPTION:An diesem  Nachmittag öffnen Die Geschichtenerfinder ihre Zauberkiste voller Fantasie: Gemeinsam mit den Kindern entstehen Geschichten\, die es vorher nicht gab – und danach so nie wieder geben wird. Ruft eure Ideen hinein\, Die Geschichtenerfinder verwandeln sie direkt in ein Märchen\, einen Film\, ein Lied oder etwas völlig Neues. Ob sprechender Koffer\, fliegende Tomaten oder ein schüchterner Drache – alles ist möglich! Seid bei diesem improvisierten Abenteuer dabei. Es wird lustig\, spannend\, leise\, laut\, überraschend und garantiert nie langweilig. \nDer Eintritt ist frei\, um Soenden wird gebeten. Einlaß ab 15:30 Uhr. Adresse: Goethestraßé 11\, 68549 Ilvesheim
URL:https://www.heinrich-vetter-stiftung.de/event/die-geschichtenerfinder-impro-theater-fuer-kinder/
LOCATION:Park der Heinrich-Vetter-Stiftung\, Goethestraße 11\, 68549 Ilvesheim
CATEGORIES:RSVP
ATTACH;FMTTYPE=image/jpeg:https://www.heinrich-vetter-stiftung.de/wp-content/uploads/2022/04/Die-Geschichtenerfinder.jpg
END:VEVENT
BEGIN:VEVENT
DTSTART;TZID=Europe/Berlin:20260724T190000
DTEND;TZID=Europe/Berlin:20260724T210000
DTSTAMP:20260422T135509
CREATED:20251216T104314Z
LAST-MODIFIED:20251229T093835Z
UID:13691-1784919600-1784926800@www.heinrich-vetter-stiftung.de
SUMMARY:Impro-Theater Mix Night
DESCRIPTION:Wenn die kleinen Ideenmeister im Bett sind\, entern Die Geschichtenerfinder erneut die Bühne – diesmal allerdings für die Großen. Impro Mix Night bedeutet: Wir wissen vorher genauso wenig wie ihr\, was passieren wird. Figuren treffen aufeinander\, die sich im echten Leben vielleicht nie begegnen würden. Szenen entstehen aus dem Nichts und verschwinden wieder – wie Kunst\, nur schneller. Ihr gebt die Themen vor\, wir improvisieren uns tapfer durch Komödie\, Drama\, Chaos und eigentlich alles dazwischen. Alles kann\, vieles darf\, nichts muss… außer Spaß haben. Das muss! \nDer Eintritt ist frei\, um Spenden wird gebeten. Einlaß ab 18:30 Uhr. \nAdresse: Goethestraße 11\, 68549 Ilvesheim
URL:https://www.heinrich-vetter-stiftung.de/event/impro-theater-mix-night/
LOCATION:Park der Heinrich-Vetter-Stiftung\, Goethestraße 11\, 68549 Ilvesheim
CATEGORIES:RSVP
ATTACH;FMTTYPE=image/jpeg:https://www.heinrich-vetter-stiftung.de/wp-content/uploads/2022/08/08.22-Kindertheater-Impro--scaled.jpg
END:VEVENT
BEGIN:VEVENT
DTSTART;TZID=Europe/Berlin:20260802T190000
DTEND;TZID=Europe/Berlin:20260802T220000
DTSTAMP:20260422T135509
CREATED:20251229T094855Z
LAST-MODIFIED:20251229T094930Z
UID:13733-1785697200-1785708000@www.heinrich-vetter-stiftung.de
SUMMARY:Rock im Park – Ein Sommerabend voller Musik und Gemeinschaft
DESCRIPTION:Schon Tradition ist  „Rock im Park“ mit der Capitolband\, so laden wir  auch im Jahr 2026 erneut in den idyllischen Park der Heinrich-Vetter-Stiftung in Ilvesheim ein. Was sich längst als musikalische Sommertradition etabliert hat\, verspricht auch diesmal einen stimmungsvollen Open-Air-Abend voller Emotionen\, Erinnerungen und gemeinsamer musikalischer Erlebnisse. \nBereits im vergangenen Jahr begeisterte die Capitol-Band mit einem besonderen Konzertformat zugunsten des Capitol-Kindertheaters. Vor voll besetzten Reihen und in entspannter Parkatmosphäre präsentierten Sascha Krebs\, Sascha Kleinophorst\, Frank Schäffer und Christof Brill – ganz ohne Schlagzeug – eine fein abgestimmte Auswahl ruhiger Pop- und Rocksongs aus sechs Jahrzehnten. Mit Piano und Gitarren\, viel musikalischem Feingefühl sowie charmanten\, humorvollen Dialogen zwischen den Stücken entstand eine Nähe zum Publikum\, die den Abend besonders machte. \nSongs wie „Englishman in New York“\, „I Don’t Like Mondays“\, „Bye Bye Miss American Pie“ oder „Lonesome Loser“ luden generationsübergreifend zum Mitsingen ein und sorgten für eine warme\, gelöste Stimmung. Zugleich erfüllte das Konzert in besonderer Weise den Kultur- und Sozialauftrag der Heinrich-Vetter-Stiftung: Der Eintritt war frei\, Spenden zugunsten des Capitol-Kindertheaters waren willkommen und fanden große Unterstützung. \nAuch 2026 dürfen sich die Besucherinnen und Besucher wieder auf einen musikalisch hochwertigen\, herzlichen und gemeinschaftsstiftenden Abend freuen – ein Konzert\, das Kulturgenuss und soziales Engagement auf wunderbare Weise verbindet. \nDer Kartenvorverkauf beginnt am 1. Mai. \nDie ersten 250 Tickets sind auch Tickets für den „Regenfall“. Hier weichen wir in die Mehrzweckhalle Ilvesheim aus. Ab Ticket 251 gibt es Schönwettertickets\, diese werden freigeschaltet\, sobal die ersten 250 Tickets weg sind. Sie gelten für den Eintritt in den Stiftungspark. Einlaß ab 18:15 Uhr. Konzertbeginn 19 Uhr. Der Eintritt ist frei\, um Spenden wird gebeten. Adresse: Park der Heinrich-Vetter-Stiftung\, Goethestraß0e 11\, 68549 Ilvesheim
URL:https://www.heinrich-vetter-stiftung.de/event/rock-im-park-ein-sommerabend-voller-musik-und-gemeinschaft/
LOCATION:Park der Heinrich-Vetter-Stiftung\, Goethestraße 11\, 68549 Ilvesheim
CATEGORIES:RSVP
ATTACH;FMTTYPE=image/jpeg:https://www.heinrich-vetter-stiftung.de/wp-content/uploads/2025/08/08.25-Rock-im-Park-2025-1-scaled.jpg
END:VEVENT
BEGIN:VEVENT
DTSTART;TZID=Europe/Berlin:20260911T150000
DTEND;TZID=Europe/Berlin:20260911T163000
DTSTAMP:20260422T135509
CREATED:20251210T085246Z
LAST-MODIFIED:20251229T093406Z
UID:13663-1789138800-1789144200@www.heinrich-vetter-stiftung.de
SUMMARY:Die Gemeindemusikkapelle Paternion-Feistritz zu Gast im Park der Heinrich-Vetter-Stiftung
DESCRIPTION:Die Heinrich-Vetter-Stiftung freut sich\, im Rahmen der Städtepartnerschaft zwischen Ladenburg und Paternion (Kärnten/Österreich) ein ganz besonderes musikalisches Ereignis ankündigen zu dürfen. Die Gemeindemusikkapelle Paternion-Feistritz reist anlässlich des Ladenburger Altstadtfestes einen Tag früher an und gibt ein exklusives Konzert im Park der Heinrich-Vetter-Stiftung. \nDie 1953 gegründete Kapelle aus der Marktgemeinde Paternion steht seit über sieben Jahrzehnten für gelebte Blasmusik\, hohes musikalisches Niveau und eine ausgeprägte Gemeinschaft. Bei Auftritten ist die besondere Kameradschaft der Musikerinnen und Musiker deutlich zu spüren\, was jedem Konzert einen eigenen\, herzlichen Charakter verleiht. Als musikalische Botschafterin der Partnergemeinde Ladenburg bringt die Kapelle ein Stück Kärntner Blasmusiktradition nach Ilvesheim. \nIm stimmungsvollen Ambiente des Heinrich-Vetter-Parks erwartet die Besucherinnen und Besucher ein abwechslungsreiches Programm: traditionelle Märsche und Polkas\, konzertante Blasmusik sowie mitreißende Bearbeitungen bekannter Melodien aus Unterhaltungsmusik\, Film und Musical. So kommen sowohl Freunde klassischer Blasmusik als auch Familien und gelegentliche Konzertbesucher auf ihre Kosten. \nDer Eintritt ist frei\, um Spenden für die Kapelle wird gebeten.
URL:https://www.heinrich-vetter-stiftung.de/event/die-gemeindemusikkapelle-paternion-feistritz-zu-gast-im-park-der-heinrich-vetter-stiftung/
LOCATION:Park der Heinrich-Vetter-Stiftung\, Goethestraße 11\, Ilvesheim\, 68549\, Deutschland
CATEGORIES:RSVP
ATTACH;FMTTYPE=image/jpeg:https://www.heinrich-vetter-stiftung.de/wp-content/uploads/2025/12/Vorschau-Gemeindkapelle-Paternion.jpg
END:VEVENT
END:VCALENDAR